BEGIN:VCALENDAR
VERSION:2.0
PRODID:-//Philippine Consulate General - ECPv5.1.6//NONSGML v1.0//EN
CALSCALE:GREGORIAN
METHOD:PUBLISH
X-WR-CALNAME:Philippine Consulate General
X-ORIGINAL-URL:https://newyorkpcg.org/pcgny
X-WR-CALDESC:Events for Philippine Consulate General
BEGIN:VTIMEZONE
TZID:America/New_York
BEGIN:DAYLIGHT
TZOFFSETFROM:-0500
TZOFFSETTO:-0400
TZNAME:EDT
DTSTART:20220313T070000
END:DAYLIGHT
BEGIN:STANDARD
TZOFFSETFROM:-0400
TZOFFSETTO:-0500
TZNAME:EST
DTSTART:20221106T060000
END:STANDARD
END:VTIMEZONE
BEGIN:VEVENT
DTSTART;TZID=America/New_York:20220219T090000
DTEND;TZID=America/New_York:20220219T150000
DTSTAMP:20260424T104730
CREATED:20220208T201922Z
LAST-MODIFIED:20220208T201922Z
UID:14506-1645261200-1645282800@newyorkpcg.org
SUMMARY:8th Filipino Community General Assembly
DESCRIPTION:The Philippine Consulate General in New York invites presidents of Filipino-American Community Organizations in the US Northeast that are registered with the Consulate to participate in the 8th Filipino Community General Assembly on Saturday\, 19 February 2022\, from 9am to 3pm. \nFor organizations that have not registered with the Consulate may do so by filling out this form:\nhttps://forms.gle/MDCtoyEem3FZPVe79 \nRSVP via https://forms.gle/3w6byqqtfRkDwGL79
URL:https://newyorkpcg.org/pcgny/event/8th-filipino-community-general-assembly/
LOCATION:Hybrid: In-person at the  Kalayaan Hall\, Philippine Center\, 556 Fifth Avenue\, New York\, NY 10036 | Virtual via Zoom
CATEGORIES:Cultural
ATTACH;FMTTYPE=image/png:https://newyorkpcg.org/pcgny/wp-content/uploads/2022/02/8th-Filipino-Community-GA-02.19.22.png
END:VEVENT
END:VCALENDAR