BEGIN:VCALENDAR
VERSION:2.0
PRODID:-//Philippine Consulate General - ECPv5.1.6//NONSGML v1.0//EN
CALSCALE:GREGORIAN
METHOD:PUBLISH
X-WR-CALNAME:Philippine Consulate General
X-ORIGINAL-URL:https://newyorkpcg.org/pcgny
X-WR-CALDESC:Events for Philippine Consulate General
BEGIN:VTIMEZONE
TZID:America/New_York
BEGIN:DAYLIGHT
TZOFFSETFROM:-0500
TZOFFSETTO:-0400
TZNAME:EDT
DTSTART:20200308T070000
END:DAYLIGHT
BEGIN:STANDARD
TZOFFSETFROM:-0400
TZOFFSETTO:-0500
TZNAME:EST
DTSTART:20201101T060000
END:STANDARD
END:VTIMEZONE
BEGIN:VEVENT
DTSTART;VALUE=DATE:20201225
DTEND;VALUE=DATE:20201226
DTSTAMP:20260421T195229
CREATED:20200819T171811Z
LAST-MODIFIED:20200829T165358Z
UID:8184-1608854400-1608940799@newyorkpcg.org
SUMMARY:Christmas Day
DESCRIPTION:The Consulate General informs the public that it will be closed on  from 24 to 25 December 2020. Consular operations will resume on Monday\, 28 December 2020. \nFor those with Consulate Emergencies or Inquiries kindly contact us here.  \nThank you for your patience and cooperation.
URL:https://newyorkpcg.org/pcgny/event/christmas-day/
CATEGORIES:Holidays
END:VEVENT
END:VCALENDAR