BEGIN:VCALENDAR
VERSION:2.0
PRODID:-//Philippine Consulate General - ECPv5.1.6//NONSGML v1.0//EN
CALSCALE:GREGORIAN
METHOD:PUBLISH
X-WR-CALNAME:Philippine Consulate General
X-ORIGINAL-URL:https://newyorkpcg.org/pcgny
X-WR-CALDESC:Events for Philippine Consulate General
BEGIN:VTIMEZONE
TZID:America/New_York
BEGIN:DAYLIGHT
TZOFFSETFROM:-0500
TZOFFSETTO:-0400
TZNAME:EDT
DTSTART:20220313T070000
END:DAYLIGHT
BEGIN:STANDARD
TZOFFSETFROM:-0400
TZOFFSETTO:-0500
TZNAME:EST
DTSTART:20221106T060000
END:STANDARD
END:VTIMEZONE
BEGIN:VEVENT
DTSTART;VALUE=DATE:20220225
DTEND;VALUE=DATE:20220226
DTSTAMP:20260422T115321
CREATED:20220208T194712Z
LAST-MODIFIED:20220208T205713Z
UID:14465-1645747200-1645833599@newyorkpcg.org
SUMMARY:EDSA People Power Revolution Anniversary
DESCRIPTION:The Consulate General informs the public that it will be closed on  this date. Consular operations will resume the next business day. \nFor those with Consulate Emergencies or Inquiries kindly contact us here.  \nThank you for your patience and cooperation.
URL:https://newyorkpcg.org/pcgny/event/edsa-people-power-revolution-anniversary/
CATEGORIES:Holidays
ATTACH;FMTTYPE=image/png:https://newyorkpcg.org/pcgny/wp-content/uploads/2020/09/02.25.22-EDSA-REVOLUTION-ANNIVERSARY.png
END:VEVENT
END:VCALENDAR