BEGIN:VCALENDAR
VERSION:2.0
PRODID:-//Philippine Consulate General - ECPv5.1.6//NONSGML v1.0//EN
CALSCALE:GREGORIAN
METHOD:PUBLISH
X-WR-CALNAME:Philippine Consulate General
X-ORIGINAL-URL:https://newyorkpcg.org/pcgny
X-WR-CALDESC:Events for Philippine Consulate General
BEGIN:VTIMEZONE
TZID:America/New_York
BEGIN:DAYLIGHT
TZOFFSETFROM:-0500
TZOFFSETTO:-0400
TZNAME:EDT
DTSTART:20230312T070000
END:DAYLIGHT
BEGIN:STANDARD
TZOFFSETFROM:-0400
TZOFFSETTO:-0500
TZNAME:EST
DTSTART:20231105T060000
END:STANDARD
END:VTIMEZONE
BEGIN:VEVENT
DTSTART;TZID=America/New_York:20230715T090000
DTEND;TZID=America/New_York:20230715T150000
DTSTAMP:20260421T202150
CREATED:20230622T184659Z
LAST-MODIFIED:20230628T194326Z
UID:17235-1689411600-1689433200@newyorkpcg.org
SUMMARY:Konsulado on the Go | Philadelphia
DESCRIPTION:The Philippine Consulate General in New York invites our kababayan in Philadelphia\, PA and surrounding areas to our consular outreach mission on \nSaturday\, 15 July 2023 from 9 a.m. to 3 p.m. at  \nSt. James the Great Catholic Church\,  \n8320 Brookside Rd\, Elkins Park\, PA 19027 \nKababayan can avail themselves of the following services: Passport Application/ Renewal\, Retention/Reacquisition of Philippine Citizenship\, Registration of Birth\, Report of Marriage\, and Notarization/Legalization. \nKababayan who wish to avail themselves of these services are required to book an appointment by going to the link https://newyorkpcg.org/pcgny/news-and-events/consular-outreach/
URL:https://newyorkpcg.org/pcgny/event/konsulado-on-the-go-philadelphia/
LOCATION:St. James the Great Catholic Church\, 8320 Brookside Rd\, Elkins Park\, PA 19027\, 8320 Brookside Rd\, Elkins Park\, Philadelphia\, PA\, 19027\, United States
CATEGORIES:Consular
END:VEVENT
END:VCALENDAR