BEGIN:VCALENDAR
VERSION:2.0
PRODID:-//Philippine Consulate General - ECPv5.1.6//NONSGML v1.0//EN
CALSCALE:GREGORIAN
METHOD:PUBLISH
X-WR-CALNAME:Philippine Consulate General
X-ORIGINAL-URL:https://newyorkpcg.org/pcgny
X-WR-CALDESC:Events for Philippine Consulate General
BEGIN:VTIMEZONE
TZID:America/New_York
BEGIN:DAYLIGHT
TZOFFSETFROM:-0500
TZOFFSETTO:-0400
TZNAME:EDT
DTSTART:20220313T070000
END:DAYLIGHT
BEGIN:STANDARD
TZOFFSETFROM:-0400
TZOFFSETTO:-0500
TZNAME:EST
DTSTART:20221106T060000
END:STANDARD
END:VTIMEZONE
BEGIN:VEVENT
DTSTART;TZID=America/New_York:20220717T090000
DTEND;TZID=America/New_York:20220717T160000
DTSTAMP:20260422T060145
CREATED:20220629T191801Z
LAST-MODIFIED:20220629T191801Z
UID:15657-1658048400-1658073600@newyorkpcg.org
SUMMARY:Konsulado on the Go | Stratford\, NJ
DESCRIPTION:The Philippine Consulate General in New York invites our kababayan in Stratford\, NJ and surrounding areas to our consular outreach mission on Sunday\, 17 July 2022 from 9 a.m. to 4 p.m. at PCSNJ Center\, 205 South White Horse Pike Stratford\, NJ 08084. \nKababayan can avail themselves of the following services: Passport Application/ Renewal\, Retention/Reacquisition of Philippine Citizenship\, Registration of Birth\, Report of Marriage\, and Notarization/Legalization. \nKababayan who wish to avail themselves of these services are required to book an appointment by going to the link https://newyorkpcg.org/pcgny/news-and-events/consular-outreach/
URL:https://newyorkpcg.org/pcgny/event/konsulado-on-the-go-stratford-nj/
CATEGORIES:Consular
ATTACH;FMTTYPE=image/jpeg:https://newyorkpcg.org/pcgny/wp-content/uploads/2022/06/viber_image_2022-06-28_18-40-21-612.jpg
END:VEVENT
END:VCALENDAR