BEGIN:VCALENDAR
VERSION:2.0
PRODID:-//Philippine Consulate General - ECPv5.1.6//NONSGML v1.0//EN
CALSCALE:GREGORIAN
METHOD:PUBLISH
X-WR-CALNAME:Philippine Consulate General
X-ORIGINAL-URL:https://newyorkpcg.org/pcgny
X-WR-CALDESC:Events for Philippine Consulate General
BEGIN:VTIMEZONE
TZID:America/New_York
BEGIN:DAYLIGHT
TZOFFSETFROM:-0500
TZOFFSETTO:-0400
TZNAME:EDT
DTSTART:20230312T070000
END:DAYLIGHT
BEGIN:STANDARD
TZOFFSETFROM:-0400
TZOFFSETTO:-0500
TZNAME:EST
DTSTART:20231105T060000
END:STANDARD
END:VTIMEZONE
BEGIN:VEVENT
DTSTART;VALUE=DATE:20230821
DTEND;VALUE=DATE:20230822
DTSTAMP:20260421T091303
CREATED:20230815T125834Z
LAST-MODIFIED:20230815T132137Z
UID:17587-1692576000-1692662399@newyorkpcg.org
SUMMARY:Ninoy Aquino Day
DESCRIPTION:The Consulate General informs the public that it will be closed on  Monday\, 21 August 2023. Consular operations will resume the next business day. \nFor those with Consulate Emergencies or Inquiries kindly contact us here.  \nThank you for your patience and cooperation.
URL:https://newyorkpcg.org/pcgny/event/ninoy-aquino-day-2/
CATEGORIES:Holidays
END:VEVENT
END:VCALENDAR