BEGIN:VCALENDAR
VERSION:2.0
PRODID:-//Philippine Consulate General - ECPv5.1.6//NONSGML v1.0//EN
CALSCALE:GREGORIAN
METHOD:PUBLISH
X-WR-CALNAME:Philippine Consulate General
X-ORIGINAL-URL:https://newyorkpcg.org/pcgny
X-WR-CALDESC:Events for Philippine Consulate General
BEGIN:VTIMEZONE
TZID:America/New_York
BEGIN:DAYLIGHT
TZOFFSETFROM:-0500
TZOFFSETTO:-0400
TZNAME:EDT
DTSTART:20220313T070000
END:DAYLIGHT
BEGIN:STANDARD
TZOFFSETFROM:-0400
TZOFFSETTO:-0500
TZNAME:EST
DTSTART:20221106T060000
END:STANDARD
END:VTIMEZONE
BEGIN:VEVENT
DTSTART;VALUE=DATE:20220221
DTEND;VALUE=DATE:20220222
DTSTAMP:20260422T084532
CREATED:20220208T194624Z
LAST-MODIFIED:20220208T205647Z
UID:14463-1645401600-1645487999@newyorkpcg.org
SUMMARY:President's Day
DESCRIPTION:The Consulate General informs the public that it will be closed on  this date. Consular operations will resume the next business day. \nFor those with Consulate Emergencies or Inquiries kindly contact us here.  \nThank you for your patience and cooperation.
URL:https://newyorkpcg.org/pcgny/event/presidents-day/
CATEGORIES:Holidays
ATTACH;FMTTYPE=image/png:https://newyorkpcg.org/pcgny/wp-content/uploads/2020/09/02.21.22-PRESIDENTS-DAY.png
END:VEVENT
END:VCALENDAR