BEGIN:VCALENDAR
VERSION:2.0
PRODID:-//Philippine Consulate General - ECPv5.1.6//NONSGML v1.0//EN
CALSCALE:GREGORIAN
METHOD:PUBLISH
X-WR-CALNAME:Philippine Consulate General
X-ORIGINAL-URL:https://newyorkpcg.org/pcgny
X-WR-CALDESC:Events for Philippine Consulate General
BEGIN:VTIMEZONE
TZID:America/New_York
BEGIN:DAYLIGHT
TZOFFSETFROM:-0500
TZOFFSETTO:-0400
TZNAME:EDT
DTSTART:20220313T070000
END:DAYLIGHT
BEGIN:STANDARD
TZOFFSETFROM:-0400
TZOFFSETTO:-0500
TZNAME:EST
DTSTART:20221106T060000
END:STANDARD
END:VTIMEZONE
BEGIN:VEVENT
DTSTART;TZID=America/New_York:20220219T090000
DTEND;TZID=America/New_York:20220219T160000
DTSTAMP:20260422T071919
CREATED:20220208T203613Z
LAST-MODIFIED:20220210T043740Z
UID:14514-1645261200-1645286400@newyorkpcg.org
SUMMARY:Serbisyo Sabado sa Konsulado
DESCRIPTION:The services offered during Serbisyo Sabado sa Konsulado s are: \n\nPhilippine passport issuance (new\, renewal and amendment of entries);\nNotarization of documents; and\nReacquisition/retention of Philippine citizenship.\n\nAppointment is required to be able to avail of the services. Walk-ins are no longer allowed. \nPlease visit the Serbisyo Sabado sa Konsulado web page for more information.
URL:https://newyorkpcg.org/pcgny/event/serbisyo-sabado-sa-konsulado-4/
LOCATION:Philippine Consulate General in New York\, 556 5th Avenue\, New York\, NY\, 10036\, United States
CATEGORIES:Consular
END:VEVENT
END:VCALENDAR