BEGIN:VCALENDAR
VERSION:2.0
PRODID:-//Philippine Consulate General - ECPv5.1.6//NONSGML v1.0//EN
CALSCALE:GREGORIAN
METHOD:PUBLISH
X-WR-CALNAME:Philippine Consulate General
X-ORIGINAL-URL:https://newyorkpcg.org/pcgny
X-WR-CALDESC:Events for Philippine Consulate General
BEGIN:VTIMEZONE
TZID:America/New_York
BEGIN:DAYLIGHT
TZOFFSETFROM:-0500
TZOFFSETTO:-0400
TZNAME:EDT
DTSTART:20230312T070000
END:DAYLIGHT
BEGIN:STANDARD
TZOFFSETFROM:-0400
TZOFFSETTO:-0500
TZNAME:EST
DTSTART:20231105T060000
END:STANDARD
END:VTIMEZONE
BEGIN:VEVENT
DTSTART;VALUE=DATE:20231204
DTEND;VALUE=DATE:20231213
DTSTAMP:20260424T104050
CREATED:20231008T003722Z
LAST-MODIFIED:20231008T003722Z
UID:18232-1701648000-1702425599@newyorkpcg.org
SUMMARY:Simbang Gabi sa Konsulado
DESCRIPTION:Simbang Gabi sa Konsulado \n4-12 December 2023
URL:https://newyorkpcg.org/pcgny/event/simbang-gabi-sa-konsulado/
CATEGORIES:Cultural
END:VEVENT
END:VCALENDAR